Package: miRNAtap
Version: 1.34.0
Command: /Library/Frameworks/R.framework/Resources/bin/R CMD check --install=check:miRNAtap.install-out.txt --library=/Library/Frameworks/R.framework/Resources/library --no-vignettes --timings miRNAtap_1.34.0.tar.gz
StartedAt: 2023-10-18 08:04:25 -0400 (Wed, 18 Oct 2023)
EndedAt: 2023-10-18 08:07:36 -0400 (Wed, 18 Oct 2023)
EllapsedTime: 191.4 seconds
RetCode: 0
Status: OK
CheckDir: miRNAtap.Rcheck
Warnings: 0