Package: maCorrPlot Version: 1.70.0 Command: /Library/Frameworks/R.framework/Resources/bin/R CMD check --install=check:maCorrPlot.install-out.txt --library=/Library/Frameworks/R.framework/Resources/library --no-vignettes --timings maCorrPlot_1.70.0.tar.gz StartedAt: 2023-10-18 04:19:38 -0400 (Wed, 18 Oct 2023) EndedAt: 2023-10-18 04:20:24 -0400 (Wed, 18 Oct 2023) EllapsedTime: 46.2 seconds RetCode: 0 Status: OK CheckDir: maCorrPlot.Rcheck Warnings: 0