Package: hierGWAS Version: 1.30.0 Command: /Library/Frameworks/R.framework/Resources/bin/R CMD build --keep-empty-dirs --no-resave-data hierGWAS StartedAt: 2023-10-16 06:05:27 -0400 (Mon, 16 Oct 2023) EndedAt: 2023-10-16 06:09:12 -0400 (Mon, 16 Oct 2023) EllapsedTime: 225.4 seconds RetCode: 0 Status: OK PackageFile: hierGWAS_1.30.0.tar.gz PackageFileSize: 567 KiB