Package: gwascat
Version: 2.32.0
Command: /Library/Frameworks/R.framework/Resources/bin/R CMD build --keep-empty-dirs --no-resave-data gwascat
StartedAt: 2023-10-16 05:35:51 -0400 (Mon, 16 Oct 2023)
EndedAt: 2023-10-16 05:40:52 -0400 (Mon, 16 Oct 2023)
EllapsedTime: 301.0 seconds
RetCode: 0
Status: OK
PackageFile: gwascat_2.32.0.tar.gz
PackageFileSize: 33.75 <A href="http://en.wikipedia.org/wiki/MiB" target="_blank">MiB</A>