git_url: https://git.bioconductor.org/packages/edge git_branch: RELEASE_3_17 git_last_commit: 2518cd9 git_last_commit_date: 2023-04-25 10:39:41 -0400 (Tue, 25 Apr 2023) Package: edge Version: 2.32.0 Maintainer: John D. Storey , Andrew J. Bass MaintainerEmail: ajbass at emory.edu