Package: cellscape
Version: 1.24.0
Command: /Library/Frameworks/R.framework/Resources/bin/R CMD INSTALL cellscape
StartedAt: 2023-10-15 17:43:55 -0400 (Sun, 15 Oct 2023)
EndedAt: 2023-10-15 17:44:01 -0400 (Sun, 15 Oct 2023)
EllapsedTime: 6.3 seconds
RetCode: 0
Status: OK