Package: cellscape
Version: 1.24.0
Command: /Library/Frameworks/R.framework/Resources/bin/R CMD build --keep-empty-dirs --no-resave-data cellscape
StartedAt: 2023-10-15 22:57:55 -0400 (Sun, 15 Oct 2023)
EndedAt: 2023-10-15 22:58:35 -0400 (Sun, 15 Oct 2023)
EllapsedTime: 40.6 seconds
RetCode: 0
Status: OK
PackageFile: cellscape_1.24.0.tar.gz
PackageFileSize: 1.098 <A href="http://en.wikipedia.org/wiki/MiB" target="_blank">MiB</A>