Package: cellscape
Version: 1.24.0
Command: rm -rf cellscape.buildbin-libdir && mkdir cellscape.buildbin-libdir && /Users/biocbuild/BBS/utils/build-universal.sh cellscape_1.24.0.tar.gz /Library/Frameworks/R.framework/Resources/bin/R cellscape.buildbin-libdir
StartedAt: 2023-10-19 11:56:40 -0400 (Thu, 19 Oct 2023)
EndedAt: 2023-10-19 11:56:48 -0400 (Thu, 19 Oct 2023)
EllapsedTime: 8.4 seconds
RetCode: 0
Status: OK
PackageFile: cellscape_1.24.0.tgz
PackageFileSize: 887.3 <A href="http://en.wikipedia.org/wiki/KiB" target="_blank">KiB</A>