git_url: https://git.bioconductor.org/packages/cellmigRation
git_branch: RELEASE_3_17
git_last_commit: 42363ab
git_last_commit_date: 2023-04-25 11:28:31 -0400 (Tue, 25 Apr 2023)
Package: cellmigRation
Version: 1.8.0
Maintainer: Waldir Leoncio
MaintainerEmail: w.l.netto at medisin.uio.no