Package: SparseArray Version: 1.0.12 Command: /Library/Frameworks/R.framework/Resources/bin/R CMD check --install=check:SparseArray.install-out.txt --library=/Library/Frameworks/R.framework/Resources/library --no-vignettes --timings SparseArray_1.0.12.tar.gz StartedAt: 2023-10-19 02:43:14 -0400 (Thu, 19 Oct 2023) EndedAt: 2023-10-19 02:48:21 -0400 (Thu, 19 Oct 2023) EllapsedTime: 307.8 seconds RetCode: 1 Status: ERROR CheckDir: SparseArray.Rcheck Warnings: NA