Package: SparseArray Version: 1.0.12 Command: rm -rf SparseArray.buildbin-libdir && mkdir SparseArray.buildbin-libdir && /Users/biocbuild/BBS/utils/build-universal.sh SparseArray_1.0.12.tar.gz /Library/Frameworks/R.framework/Resources/bin/R SparseArray.buildbin-libdir StartedAt: 2023-10-19 17:26:04 -0400 (Thu, 19 Oct 2023) EndedAt: 2023-10-19 17:27:19 -0400 (Thu, 19 Oct 2023) EllapsedTime: 75.5 seconds RetCode: 0 Status: OK PackageFile: SparseArray_1.0.12.tgz PackageFileSize: 1.73 MiB