Package: RcisTarget
Version: 1.20.0
Command: /Library/Frameworks/R.framework/Resources/bin/R CMD INSTALL RcisTarget
StartedAt: 2023-10-15 18:15:21 -0400 (Sun, 15 Oct 2023)
EndedAt: 2023-10-15 18:16:32 -0400 (Sun, 15 Oct 2023)
EllapsedTime: 71.4 seconds
RetCode: 0
Status: OK