Package: RcisTarget
Version: 1.20.0
Command: /Library/Frameworks/R.framework/Resources/bin/R CMD check --install=check:RcisTarget.install-out.txt --library=/Library/Frameworks/R.framework/Resources/library --no-vignettes --timings RcisTarget_1.20.0.tar.gz
StartedAt: 2023-10-18 17:30:57 -0400 (Wed, 18 Oct 2023)
EndedAt: 2023-10-18 17:41:18 -0400 (Wed, 18 Oct 2023)
EllapsedTime: 620.7 seconds
RetCode: 0
Status: OK
CheckDir: RcisTarget.Rcheck
Warnings: 0