##############################################################################
##############################################################################
###
### Running command:
###
###   /Library/Frameworks/R.framework/Resources/bin/R CMD build --keep-empty-dirs --no-resave-data RcisTarget
###
##############################################################################
##############################################################################


* checking for file ‘RcisTarget/DESCRIPTION’ ... OK
* preparing ‘RcisTarget’:
* checking DESCRIPTION meta-information ... OK
* installing the package to build vignettes
* creating vignettes ... OK
* checking for LF line-endings in source and make files and shell scripts
* checking for empty or unneeded directories
* looking to see if a ‘data/datalist’ file should be added
  NB: this package now depends on R (>= 3.5.0)
  WARNING: Added dependency on R >= 3.5.0 because serialized objects in
  serialize/load version 3 cannot be read in older versions of R.
  File(s) containing such objects:
    ‘RcisTarget/data/dbRegionsLoc_hg19_v9.RData’
    ‘RcisTarget/data/motifAnnotations_dmel.RData’
    ‘RcisTarget/data/motifAnnotations_dmel_v8.RData’
    ‘RcisTarget/data/motifAnnotations_dmel_v9.RData’
    ‘RcisTarget/data/motifAnnotations_hgnc.RData’
    ‘RcisTarget/data/motifAnnotations_hgnc_v9.RData’
    ‘RcisTarget/data/motifAnnotations_mgi.RData’
    ‘RcisTarget/data/motifAnnotations_mgi_v9.RData’
    ‘RcisTarget/inst/examples/motifEnrichmentTable_wGenes.RData’
* building ‘RcisTarget_1.20.0.tar.gz’