Package: RBioinf
Version: 1.60.0
Command: /Library/Frameworks/R.framework/Resources/bin/R CMD INSTALL RBioinf
StartedAt: 2023-10-15 15:12:46 -0400 (Sun, 15 Oct 2023)
EndedAt: 2023-10-15 15:12:53 -0400 (Sun, 15 Oct 2023)
EllapsedTime: 7.6 seconds
RetCode: 0
Status: OK