Package: RBioinf
Version: 1.60.0
Command: /Library/Frameworks/R.framework/Resources/bin/R CMD check --install=check:RBioinf.install-out.txt --library=/Library/Frameworks/R.framework/Resources/library --no-vignettes --timings RBioinf_1.60.0.tar.gz
StartedAt: 2023-10-18 17:25:49 -0400 (Wed, 18 Oct 2023)
EndedAt: 2023-10-18 17:26:37 -0400 (Wed, 18 Oct 2023)
EllapsedTime: 48.2 seconds
RetCode: 0
Status: OK
CheckDir: RBioinf.Rcheck
Warnings: 0