git_url: https://git.bioconductor.org/packages/OUTRIDER
git_branch: RELEASE_3_17
git_last_commit: 56d52a3
git_last_commit_date: 2023-05-01 20:07:43 -0400 (Mon, 01 May 2023)
Package: OUTRIDER
Version: 1.18.1
Maintainer: Christian Mertes
MaintainerEmail: mertes at in.tum.de