Package: MSstatsLiP Version: 1.6.0 Command: rm -rf MSstatsLiP.buildbin-libdir && mkdir MSstatsLiP.buildbin-libdir && /Users/biocbuild/BBS/utils/build-universal.sh MSstatsLiP_1.6.0.tar.gz /Library/Frameworks/R.framework/Resources/bin/R MSstatsLiP.buildbin-libdir StartedAt: 2023-10-19 15:14:15 -0400 (Thu, 19 Oct 2023) EndedAt: 2023-10-19 15:15:32 -0400 (Thu, 19 Oct 2023) EllapsedTime: 76.6 seconds RetCode: 0 Status: OK PackageFile: MSstatsLiP_1.6.0.tgz PackageFileSize: 1.736 MiB