Package: M3Drop Version: 1.26.0 Command: rm -rf M3Drop.buildbin-libdir && mkdir M3Drop.buildbin-libdir && /Users/biocbuild/BBS/utils/build-universal.sh M3Drop_1.26.0.tar.gz /Library/Frameworks/R.framework/Resources/bin/R M3Drop.buildbin-libdir StartedAt: 2023-10-19 14:28:00 -0400 (Thu, 19 Oct 2023) EndedAt: 2023-10-19 14:28:49 -0400 (Thu, 19 Oct 2023) EllapsedTime: 48.9 seconds RetCode: 0 Status: OK PackageFile: M3Drop_1.26.0.tgz PackageFileSize: 12.47 MiB