Package: KnowSeq
Version: 1.14.1
Command: /Library/Frameworks/R.framework/Resources/bin/R CMD INSTALL KnowSeq
StartedAt: 2023-10-15 18:57:06 -0400 (Sun, 15 Oct 2023)
EndedAt: 2023-10-15 18:58:04 -0400 (Sun, 15 Oct 2023)
EllapsedTime: 58.4 seconds
RetCode: 0
Status: OK