Package: KnowSeq
Version: 1.14.1
Command: rm -rf KnowSeq.buildbin-libdir && mkdir KnowSeq.buildbin-libdir && /Users/biocbuild/BBS/utils/build-universal.sh KnowSeq_1.14.1.tar.gz /Library/Frameworks/R.framework/Resources/bin/R KnowSeq.buildbin-libdir
StartedAt: 2023-10-19 14:22:36 -0400 (Thu, 19 Oct 2023)
EndedAt: 2023-10-19 14:24:09 -0400 (Thu, 19 Oct 2023)
EllapsedTime: 93.1 seconds
RetCode: 0
Status: OK
PackageFile: KnowSeq_1.14.1.tgz
PackageFileSize: 6.462 <A href="http://en.wikipedia.org/wiki/MiB" target="_blank">MiB</A>