git_url: https://git.bioconductor.org/packages/IsoCorrectoRGUI
git_branch: RELEASE_3_17
git_last_commit: 07ebf73
git_last_commit_date: 2023-04-25 11:06:27 -0400 (Tue, 25 Apr 2023)
Package: IsoCorrectoRGUI
Version: 1.16.0
Maintainer: Christian Kohler
MaintainerEmail: christian.kohler at ur.de