git_url: https://git.bioconductor.org/packages/ImmuneSpaceR
git_branch: RELEASE_3_17
git_last_commit: af9dead
git_last_commit_date: 2023-04-25 10:46:58 -0400 (Tue, 25 Apr 2023)
Package: ImmuneSpaceR
Version: 1.28.0
Maintainer: ImmuneSpace Package Maintainer
MaintainerEmail: immunespace at gmail.com