Package: ILoReg
Version: 1.10.0
Command: /Library/Frameworks/R.framework/Resources/bin/R CMD INSTALL ILoReg
StartedAt: 2023-10-15 19:51:06 -0400 (Sun, 15 Oct 2023)
EndedAt: 2023-10-15 19:51:58 -0400 (Sun, 15 Oct 2023)
EllapsedTime: 51.8 seconds
RetCode: 0
Status: OK