Package: ILoReg
Version: 1.10.0
Command: /Library/Frameworks/R.framework/Resources/bin/R CMD build --keep-empty-dirs --no-resave-data ILoReg
StartedAt: 2023-10-16 06:39:16 -0400 (Mon, 16 Oct 2023)
EndedAt: 2023-10-16 06:47:55 -0400 (Mon, 16 Oct 2023)
EllapsedTime: 519.8 seconds
RetCode: 0
Status: OK
PackageFile: ILoReg_1.10.0.tar.gz
PackageFileSize: 2.575 <A href="http://en.wikipedia.org/wiki/MiB" target="_blank">MiB</A>