git_url: https://git.bioconductor.org/packages/GmicR
git_branch: RELEASE_3_17
git_last_commit: 09743f5
git_last_commit_date: 2023-04-25 11:12:49 -0400 (Tue, 25 Apr 2023)
Package: GmicR
Version: 1.14.0
Maintainer: Richard Virgen-Slane
MaintainerEmail: RVS.BioTools at gmail.com