Package: CellaRepertorium Version: 1.10.0 Command: /Library/Frameworks/R.framework/Resources/bin/R CMD build --keep-empty-dirs --no-resave-data CellaRepertorium StartedAt: 2023-10-15 22:49:28 -0400 (Sun, 15 Oct 2023) EndedAt: 2023-10-15 22:51:43 -0400 (Sun, 15 Oct 2023) EllapsedTime: 135.3 seconds RetCode: 0 Status: OK PackageFile: CellaRepertorium_1.10.0.tar.gz PackageFileSize: 4.562 MiB