Package: BioMVCClass Version: 1.68.0 Command: rm -rf BioMVCClass.buildbin-libdir && mkdir BioMVCClass.buildbin-libdir && /Users/biocbuild/BBS/utils/build-universal.sh BioMVCClass_1.68.0.tar.gz /Library/Frameworks/R.framework/Resources/bin/R BioMVCClass.buildbin-libdir StartedAt: 2023-10-19 11:37:56 -0400 (Thu, 19 Oct 2023) EndedAt: 2023-10-19 11:38:09 -0400 (Thu, 19 Oct 2023) EllapsedTime: 13.0 seconds RetCode: 0 Status: OK PackageFile: BioMVCClass_1.68.0.tgz PackageFileSize: 144 KiB