Package: BASiCS
Version: 2.12.3
Command: /Library/Frameworks/R.framework/Resources/bin/R CMD build --keep-empty-dirs --no-resave-data BASiCS
StartedAt: 2023-10-15 21:17:32 -0400 (Sun, 15 Oct 2023)
EndedAt: 2023-10-15 21:19:45 -0400 (Sun, 15 Oct 2023)
EllapsedTime: 133.2 seconds
RetCode: 0
Status: OK
PackageFile: BASiCS_2.12.3.tar.gz
PackageFileSize: 3.109 <A href="http://en.wikipedia.org/wiki/MiB" target="_blank">MiB</A>