Package: BASiCS
Version: 2.12.3
Command: rm -rf BASiCS.buildbin-libdir && mkdir BASiCS.buildbin-libdir && /Users/biocbuild/BBS/utils/build-universal.sh BASiCS_2.12.3.tar.gz /Library/Frameworks/R.framework/Resources/bin/R BASiCS.buildbin-libdir
StartedAt: 2023-10-19 11:24:57 -0400 (Thu, 19 Oct 2023)
EndedAt: 2023-10-19 11:28:12 -0400 (Thu, 19 Oct 2023)
EllapsedTime: 195.1 seconds
RetCode: 0
Status: OK
PackageFile: BASiCS_2.12.3.tgz
PackageFileSize: 3.736 <A href="http://en.wikipedia.org/wiki/MiB" target="_blank">MiB</A>