Package: autonomics
Version: 1.8.0
Command: /Library/Frameworks/R.framework/Resources/bin/R CMD check --test-dir=longtests --no-stop-on-test-error --no-codoc --no-examples --no-manual --ignore-vignettes --check-subdirs=no autonomics_1.8.0.tar.gz
StartedAt: 2023-10-14 11:02:41 -0400 (Sat, 14 Oct 2023)
EndedAt: 2023-10-14 11:05:58 -0400 (Sat, 14 Oct 2023)
EllapsedTime: 196.5 seconds
RetCode: 1
Status: ERROR
CheckDir: autonomics.Rcheck
Warnings: NA