Package: APAlyzer
Version: 1.14.0
Command: F:\biocbuild\bbs-3.17-bioc\R\bin\R.exe CMD check --no-multiarch --test-dir=longtests --no-stop-on-test-error --no-codoc --no-examples --no-manual --ignore-vignettes --check-subdirs=no APAlyzer_1.14.0.tar.gz
StartedAt: 2023-10-14 11:04:37 -0400 (Sat, 14 Oct 2023)
EndedAt: 2023-10-14 11:08:46 -0400 (Sat, 14 Oct 2023)
EllapsedTime: 248.9 seconds
RetCode: 1
Status: ERROR
CheckDir: APAlyzer.Rcheck
Warnings: NA