Package: APAlyzer
Version: 1.14.0
Command: chmod a+r APAlyzer -R && F:\biocbuild\bbs-3.17-bioc\R\bin\R.exe CMD build --keep-empty-dirs --no-resave-data --no-build-vignettes --no-manual APAlyzer
StartedAt: 2023-10-14 11:02:26 -0400 (Sat, 14 Oct 2023)
EndedAt: 2023-10-14 11:02:36 -0400 (Sat, 14 Oct 2023)
EllapsedTime: 9.7 seconds
RetCode: 0
Status: OK
PackageFile: APAlyzer_1.14.0.tar.gz
PackageFileSize: 3.155 <A href="http://en.wikipedia.org/wiki/MiB" target="_blank">MiB</A>