git_url: https://git.bioconductor.org/packages/xmapbridge
git_branch: RELEASE_3_17
git_last_commit: 905077b
git_last_commit_date: 2023-04-25 09:47:47 -0400 (Tue, 25 Apr 2023)
Package: xmapbridge
Version: 1.58.0
Maintainer: Chris Wirth
MaintainerEmail: Christopher.Wirth at cruk.manchester.ac.uk