git_url: https://git.bioconductor.org/packages/weaver
git_branch: RELEASE_3_17
git_last_commit: 703bc75
git_last_commit_date: 2023-04-25 10:20:47 -0400 (Tue, 25 Apr 2023)
Package: weaver
Version: 1.66.0
Maintainer: Seth Falcon
MaintainerEmail: seth at userprimary.net