Package: veloviz Version: 1.6.0 Command: /Library/Frameworks/R.framework/Resources/bin/R CMD check --install=check:veloviz.install-out.txt --library=/Library/Frameworks/R.framework/Resources/library --no-vignettes --timings veloviz_1.6.0.tar.gz StartedAt: 2023-10-16 08:28:21 -0400 (Mon, 16 Oct 2023) EndedAt: 2023-10-16 08:31:06 -0400 (Mon, 16 Oct 2023) EllapsedTime: 165.3 seconds RetCode: 0 Status: OK CheckDir: veloviz.Rcheck Warnings: 0