Package: veloviz Version: 1.6.0 Command: rm -rf veloviz.buildbin-libdir && mkdir veloviz.buildbin-libdir && /Users/biocbuild/BBS/utils/build-universal.sh veloviz_1.6.0.tar.gz /Library/Frameworks/R.framework/Resources/bin/R veloviz.buildbin-libdir StartedAt: 2023-10-16 10:24:28 -0400 (Mon, 16 Oct 2023) EndedAt: 2023-10-16 10:25:22 -0400 (Mon, 16 Oct 2023) EllapsedTime: 54.1 seconds RetCode: 0 Status: OK PackageFile: veloviz_1.6.0.tgz PackageFileSize: 3.636 MiB