git_url: https://git.bioconductor.org/packages/uSORT
git_branch: RELEASE_3_17
git_last_commit: 67bc618
git_last_commit_date: 2023-04-25 10:49:41 -0400 (Tue, 25 Apr 2023)
Package: uSORT
Version: 1.26.0
Maintainer: Hao Chen
MaintainerEmail: chen_hao at immunol.a-star.edu.sg