Package: trio Version: 3.38.0 Command: /home/biocbuild/bbs-3.17-bioc/R/bin/R CMD check --install=check:trio.install-out.txt --library=/home/biocbuild/bbs-3.17-bioc/R/site-library --timings trio_3.38.0.tar.gz StartedAt: 2023-10-16 01:54:38 -0400 (Mon, 16 Oct 2023) EndedAt: 2023-10-16 01:57:34 -0400 (Mon, 16 Oct 2023) EllapsedTime: 175.9 seconds RetCode: 0 Status: OK CheckDir: trio.Rcheck Warnings: 0