Package: trio Version: 3.38.0 Command: rm -rf trio.buildbin-libdir && mkdir trio.buildbin-libdir && /Users/biocbuild/BBS/utils/build-universal.sh trio_3.38.0.tar.gz /Library/Frameworks/R.framework/Resources/bin/R trio.buildbin-libdir StartedAt: 2023-10-16 10:23:02 -0400 (Mon, 16 Oct 2023) EndedAt: 2023-10-16 10:24:34 -0400 (Mon, 16 Oct 2023) EllapsedTime: 91.2 seconds RetCode: 0 Status: OK PackageFile: trio_3.38.0.tgz PackageFileSize: 1.604 MiB