git_url: https://git.bioconductor.org/packages/tradeSeq
git_branch: RELEASE_3_17
git_last_commit: 4a3c31b
git_last_commit_date: 2023-04-25 11:14:08 -0400 (Tue, 25 Apr 2023)
Package: tradeSeq
Version: 1.14.0
Maintainer: Hector Roux de Bezieux
MaintainerEmail: hector.rouxdebezieux at berkeley.edu