git_url: https://git.bioconductor.org/packages/topdownr
git_branch: RELEASE_3_17
git_last_commit: ce41e9b
git_last_commit_date: 2023-04-25 10:57:34 -0400 (Tue, 25 Apr 2023)
Package: topdownr
Version: 1.22.0
Maintainer: Sebastian Gibb
MaintainerEmail: mail at sebastiangibb.de