git_url: https://git.bioconductor.org/packages/syntenet
git_branch: RELEASE_3_17
git_last_commit: 7536b71
git_last_commit_date: 2023-06-15 05:34:37 -0400 (Thu, 15 Jun 2023)
Package: syntenet
Version: 1.2.4
Maintainer: Fabrício Almeida-Silva
MaintainerEmail: fabricio_almeidasilva at hotmail.com