git_url: https://git.bioconductor.org/packages/switchBox
git_branch: RELEASE_3_17
git_last_commit: 26536cd
git_last_commit_date: 2023-04-25 10:34:18 -0400 (Tue, 25 Apr 2023)
Package: switchBox
Version: 1.36.0
Maintainer: Bahman Afsari <bahman@jhu.edu>, Luigi Marchionni
MaintainerEmail: marchion at jhu.edu>, Wikum Dinalankara <wdinala1 at jhmi.edu