git_url: https://git.bioconductor.org/packages/svaRetro
git_branch: RELEASE_3_17
git_last_commit: 60aa226
git_last_commit_date: 2023-04-25 11:32:17 -0400 (Tue, 25 Apr 2023)
Package: svaRetro
Version: 1.6.0
Maintainer: Ruining Dong
MaintainerEmail: lnyidrn at gmail.com