Package: supraHex Version: 1.38.0 Command: F:\biocbuild\bbs-3.17-bioc\R\bin\R.exe CMD check --no-multiarch --install=check:supraHex.install-out.txt --library=F:\biocbuild\bbs-3.17-bioc\R\library --no-vignettes --timings supraHex_1.38.0.tar.gz StartedAt: 2023-10-16 07:26:58 -0400 (Mon, 16 Oct 2023) EndedAt: 2023-10-16 07:28:14 -0400 (Mon, 16 Oct 2023) EllapsedTime: 75.4 seconds RetCode: 0 Status: OK CheckDir: supraHex.Rcheck Warnings: 0