Package: supraHex Version: 1.38.0 Command: chmod a+r supraHex -R && F:\biocbuild\bbs-3.17-bioc\R\bin\R.exe CMD build --keep-empty-dirs --no-resave-data supraHex StartedAt: 2023-10-15 22:44:14 -0400 (Sun, 15 Oct 2023) EndedAt: 2023-10-15 22:44:41 -0400 (Sun, 15 Oct 2023) EllapsedTime: 27.0 seconds RetCode: 0 Status: OK PackageFile: supraHex_1.38.0.tar.gz PackageFileSize: 4.842 MiB