Package: supraHex Version: 1.38.0 Command: /Library/Frameworks/R.framework/Resources/bin/R CMD INSTALL supraHex StartedAt: 2023-10-15 15:32:00 -0400 (Sun, 15 Oct 2023) EndedAt: 2023-10-15 15:32:49 -0400 (Sun, 15 Oct 2023) EllapsedTime: 48.6 seconds RetCode: 0 Status: OK