Package: supraHex Version: 1.38.0 Command: /Library/Frameworks/R.framework/Resources/bin/R CMD build --keep-empty-dirs --no-resave-data supraHex StartedAt: 2023-10-15 21:45:54 -0400 (Sun, 15 Oct 2023) EndedAt: 2023-10-15 21:46:53 -0400 (Sun, 15 Oct 2023) EllapsedTime: 59.0 seconds RetCode: 0 Status: OK PackageFile: supraHex_1.38.0.tar.gz PackageFileSize: 5.148 MiB