Package: struct Version: 1.12.0 Command: /home/biocbuild/bbs-3.17-bioc/R/bin/R CMD build --keep-empty-dirs --no-resave-data struct StartedAt: 2023-10-15 18:43:31 -0400 (Sun, 15 Oct 2023) EndedAt: 2023-10-15 18:44:20 -0400 (Sun, 15 Oct 2023) EllapsedTime: 48.9 seconds RetCode: 0 Status: OK PackageFile: struct_1.12.0.tar.gz PackageFileSize: 594.7 KiB